BEGIN:VCALENDAR
VERSION:2.0
PRODID:-//ChamberMaster//Event Calendar 2.0//EN
METHOD:PUBLISH
X-PUBLISHED-TTL:P3D
REFRESH-INTERVAL:P3D
CALSCALE:GREGORIAN
BEGIN:VEVENT
DTSTART:20011028T170000Z
DTEND:20011028T170000Z
X-MICROSOFT-CDO-ALLDAYEVENT:FALSE
SUMMARY:Women's Soccer Game
DESCRIPTION:NMU's Women Wildcats will take on Saginaw Valley State in a GLIAC game at home. Tickets are available at NMU's E-Z Ticket office or by calling 227-1032.
X-ALT-DESC;FMTTYPE=text/html:NMU's Women Wildcats will take on Saginaw Valley State in a GLIAC game at home. Tickets are available at NMU's E-Z Ticket office or by calling 227-1032.
LOCATION:Home
UID:e.1704.46105
SEQUENCE:3
DTSTAMP:20260423T110744Z
URL:https://business.marquette.org/events/details/women-s-soccer-game-10-28-2001-46105
END:VEVENT

END:VCALENDAR
