BEGIN:VCALENDAR
VERSION:2.0
PRODID:-//ChamberMaster//Event Calendar 2.0//EN
METHOD:PUBLISH
X-PUBLISHED-TTL:P3D
REFRESH-INTERVAL:P3D
CALSCALE:GREGORIAN
BEGIN:VEVENT
DTSTART:20011103T170000Z
DTEND:20011103T170000Z
X-MICROSOFT-CDO-ALLDAYEVENT:FALSE
SUMMARY:Women's Soccer Game
DESCRIPTION:NMU Women Wildcats will take on Northwood University in a GLIAC game away from home. Call the NMU E-Z Ticket office at 227-1032 to find out how to get your ticket.
X-ALT-DESC;FMTTYPE=text/html:NMU Women Wildcats will take on Northwood University in a GLIAC game away from home. Call the NMU E-Z Ticket office at 227-1032 to find out how to get your ticket.
LOCATION:Midland
UID:e.1704.46109
SEQUENCE:3
DTSTAMP:20260423T074917Z
URL:https://business.marquette.org/events/details/women-s-soccer-game-11-03-2001-46109
END:VEVENT

END:VCALENDAR
