BEGIN:VCALENDAR
VERSION:2.0
PRODID:-//ChamberMaster//Event Calendar 2.0//EN
METHOD:PUBLISH
X-PUBLISHED-TTL:P3D
REFRESH-INTERVAL:P3D
CALSCALE:GREGORIAN
BEGIN:VEVENT
DTSTART:20030310T140000Z
DTEND:20030310T140000Z
X-MICROSOFT-CDO-ALLDAYEVENT:FALSE
SUMMARY:Woodworkers Rally
DESCRIPTION:This rally will meet each Monday and Tuesday through April 15.  Instructor Cairl Moore will discuss tool skills\, safety\, finishing and tricks of the trade.  Participants must provide their own materials and enrollment in limited to the first 18 participants.  The cost is $25 for Northern Center for Lifelong Learning members and $60 for non-members.  For more information call Cairl Moore at 225-5040.
X-ALT-DESC;FMTTYPE=text/html:This rally will meet each Monday and Tuesday through April 15.  Instructor Cairl Moore will discuss tool skills\, safety\, finishing and tricks of the trade.  Participants must provide their own materials and enrollment in limited to the first 18 participants.  The cost is $25 for Northern Center for Lifelong Learning members and $60 for non-members.  For more information call Cairl Moore at 225-5040.
LOCATION:Room 137\, Jacobette Center
UID:e.1704.52649
SEQUENCE:3
DTSTAMP:20260421T204902Z
URL:https://business.marquette.org/events/details/woodworkers-rally-03-10-2003-52649
END:VEVENT

END:VCALENDAR
