BEGIN:VCALENDAR
VERSION:2.0
PRODID:-//ChamberMaster//Event Calendar 2.0//EN
METHOD:PUBLISH
X-PUBLISHED-TTL:P3D
REFRESH-INTERVAL:P3D
CALSCALE:GREGORIAN
BEGIN:VEVENT
DTSTART:20020415T130000Z
DTEND:20020522T150000Z
X-MICROSOFT-CDO-ALLDAYEVENT:FALSE
SUMMARY:Woodworkers' Rally Planned
DESCRIPTION:The Northern Center for Lifelong Learning will be offering a woodworkers' rally on Mondays and Wednesdays at NMU's Jacobetti Center.  Instructor Cairl Moore will discuss tool skills\, safety\, finishing and tricks of the trade.  Beggining and advanced woodworkers are welcome.  Participants must provide their own materials and enrollment is limited to the first 18 individuals.  The cost to attend is $25 for NCLL members and $60 for non-members.  To register call the NCLL office at 227-2979.
X-ALT-DESC;FMTTYPE=text/html:The Northern Center for Lifelong Learning will be offering a woodworkers' rally on Mondays and Wednesdays at NMU's Jacobetti Center.  Instructor Cairl Moore will discuss tool skills\, safety\, finishing and tricks of the trade.  Beggining and advanced woodworkers are welcome.  Participants must provide their own materials and enrollment is limited to the first 18 individuals.  The cost to attend is $25 for NCLL members and $60 for non-members.  To register call the NCLL office at 227-2979.
LOCATION:NMU Jacobetti Center
UID:e.1704.48285
SEQUENCE:3
DTSTAMP:20260422T202457Z
URL:https://business.marquette.org/events/details/woodworkers-rally-planned-04-15-2002-48285
END:VEVENT

END:VCALENDAR
