BEGIN:VCALENDAR
VERSION:2.0
PRODID:-//ChamberMaster//Event Calendar 2.0//EN
METHOD:PUBLISH
X-PUBLISHED-TTL:P3D
REFRESH-INTERVAL:P3D
CALSCALE:GREGORIAN
BEGIN:VEVENT
DTSTART:20020713T040000Z
DTEND:20020714T040000Z
X-MICROSOFT-CDO-ALLDAYEVENT:FALSE
SUMMARY:World War II Encampment
DESCRIPTION:Experience life during World War II with an encampment\, costumed interpreters\, various speakers\, dramatic performances and Swing Dance demonstrations by the Northern Michigan University Swing Dance Club.  For more information\, please call the Museum at 475-7857.
X-ALT-DESC;FMTTYPE=text/html:Experience life during World War II with an encampment\, costumed interpreters\, various speakers\, dramatic performances and Swing Dance demonstrations by the Northern Michigan University Swing Dance Club.  For more information\, please call the Museum at 475-7857.
LOCATION:Michigan Iron Industry Museum
UID:e.1704.48637
SEQUENCE:3
DTSTAMP:20260422T160036Z
URL:https://business.marquette.org/events/details/world-war-ii-encampment-07-13-2002-48637
END:VEVENT

END:VCALENDAR
