BEGIN:VCALENDAR
VERSION:2.0
PRODID:-//ChamberMaster//Event Calendar 2.0//EN
METHOD:PUBLISH
X-PUBLISHED-TTL:P3D
REFRESH-INTERVAL:P3D
CALSCALE:GREGORIAN
BEGIN:VEVENT
DTSTART:20010714T040000Z
DTEND:20010715T040000Z
X-MICROSOFT-CDO-ALLDAYEVENT:FALSE
SUMMARY:Yacht Race
DESCRIPTION:For details please call 800-454-5227
X-ALT-DESC;FMTTYPE=text/html:For details please call 800-454-5227
LOCATION:Chicago to Mackinac
UID:e.1704.44597
SEQUENCE:3
DTSTAMP:20260423T170355Z
URL:https://business.marquette.org/events/details/yacht-race-07-14-2001-44597
END:VEVENT

END:VCALENDAR
