BEGIN:VCALENDAR
VERSION:2.0
PRODID:-//ChamberMaster//Event Calendar 2.0//EN
METHOD:PUBLISH
X-PUBLISHED-TTL:P3D
REFRESH-INTERVAL:P3D
CALSCALE:GREGORIAN
BEGIN:VEVENT
DTSTART:20020914T000000Z
DTEND:20020916T000000Z
X-MICROSOFT-CDO-ALLDAYEVENT:FALSE
SUMMARY:Yellow Dog Recording Project
DESCRIPTION:This event will consist of a series of live\, recorded concerts with 6-7 performers each night.  Nightly tickets are $10 at the door and advance weekend tickets are $25 at EmmaJoe's Coffee House.  For more information call the Yellow Dog Watershed Preserve at  (906) 345-9223.
X-ALT-DESC;FMTTYPE=text/html:This event will consist of a series of live\, recorded concerts with 6-7 performers each night.  Nightly tickets are $10 at the door and advance weekend tickets are $25 at EmmaJoe's Coffee House.  For more information call the Yellow Dog Watershed Preserve at  (906) 345-9223.\n
LOCATION:EmmaJoe's Coffee House
UID:e.1704.50653
SEQUENCE:3
DTSTAMP:20260422T111155Z
URL:https://business.marquette.org/events/details/yellow-dog-recording-project-09-13-2002-50653
END:VEVENT

END:VCALENDAR
