BEGIN:VCALENDAR
VERSION:2.0
PRODID:-//ChamberMaster//Event Calendar 2.0//EN
METHOD:PUBLISH
X-PUBLISHED-TTL:P3D
REFRESH-INTERVAL:P3D
CALSCALE:GREGORIAN
BEGIN:VEVENT
DTSTART:20020530T170000Z
DTEND:20020530T170000Z
X-MICROSOFT-CDO-ALLDAYEVENT:FALSE
SUMMARY:YMCA Active Older American Day
DESCRIPTION:There will be free tours\, refreshments and special activities at the Y.  It is free to attend.  For more information\, contact the Y at 227-9622.
X-ALT-DESC;FMTTYPE=text/html:There will be free tours\, refreshments and special activities at the Y.  It is free to attend.  For more information\, contact the Y at 227-9622.
LOCATION:YMCA of Marquette
UID:e.1704.48573
SEQUENCE:3
DTSTAMP:20260422T202440Z
URL:https://business.marquette.org/events/details/ymca-active-older-american-day-05-30-2002-48573
END:VEVENT

END:VCALENDAR
