BEGIN:VCALENDAR
VERSION:2.0
PRODID:-//ChamberMaster//Event Calendar 2.0//EN
METHOD:PUBLISH
X-PUBLISHED-TTL:P3D
REFRESH-INTERVAL:P3D
CALSCALE:GREGORIAN
BEGIN:VEVENT
DTSTART:20020416T230000Z
DTEND:20020416T230000Z
X-MICROSOFT-CDO-ALLDAYEVENT:FALSE
SUMMARY:YMCA Book Club
DESCRIPTION:Share your thoughts about novels with others whom enjoy reading at the Y in Marquette.  It is free to attend if you are a Y member.  For more information please call 227-9622 or visit www.ymca.org
X-ALT-DESC;FMTTYPE=text/html:Share your thoughts about novels with others whom enjoy reading at the Y in Marquette.  It is free to attend if you are a Y member.  For more information please call 227-9622 or visit www.ymca.org
LOCATION:YMCA Conference Room - Marquette
UID:e.1704.47997
SEQUENCE:3
DTSTAMP:20260423T000618Z
URL:https://business.marquette.org/events/details/ymca-book-club-04-16-2002-47997
END:VEVENT

END:VCALENDAR
