BEGIN:VCALENDAR
VERSION:2.0
PRODID:-//ChamberMaster//Event Calendar 2.0//EN
METHOD:PUBLISH
X-PUBLISHED-TTL:P3D
REFRESH-INTERVAL:P3D
CALSCALE:GREGORIAN
BEGIN:VEVENT
DTSTART:20011027T233000Z
DTEND:20011027T233000Z
X-MICROSOFT-CDO-ALLDAYEVENT:FALSE
SUMMARY:YMCA Can-a-Thon
DESCRIPTION:Community residents are encouraged to bring in a canned item during this time and use the YMCA facilities free of charge. YMCA members who participate will be registered to win a YMCA garment. All donations will go to support The Salvation Army Food Bank. For more information please call 227-9622.
X-ALT-DESC;FMTTYPE=text/html:Community residents are encouraged to bring in a canned item during this time and use the YMCA facilities free of charge. YMCA members who participate will be registered to win a YMCA garment. All donations will go to support The Salvation Army Food Bank. For more information please call 227-9622.
LOCATION:YMCA
UID:e.1704.46537
SEQUENCE:3
DTSTAMP:20260423T094355Z
URL:https://business.marquette.org/events/details/ymca-can-a-thon-10-27-2001-46537
END:VEVENT

END:VCALENDAR
