BEGIN:VCALENDAR
VERSION:2.0
PRODID:-//ChamberMaster//Event Calendar 2.0//EN
METHOD:PUBLISH
X-PUBLISHED-TTL:P3D
REFRESH-INTERVAL:P3D
CALSCALE:GREGORIAN
BEGIN:VEVENT
DTSTART:20020921T000000Z
DTEND:20020921T000000Z
X-MICROSOFT-CDO-ALLDAYEVENT:FALSE
SUMMARY:YMCA Dance
DESCRIPTION:This dance is open to those in grades 6th thru 8th.  The cost is $2 for YMCA members and $3 for the general public.  For more information call the YMCA  at 227-9622.
X-ALT-DESC;FMTTYPE=text/html:This dance is open to those in grades 6th thru 8th.  The cost is $2 for YMCA members and $3 for the general public.  For more information call the YMCA  at 227-9622. \n
LOCATION:YMCA of Marquette
UID:e.1704.50265
SEQUENCE:3
DTSTAMP:20260422T110003Z
URL:https://business.marquette.org/events/details/ymca-dance-09-20-2002-50265
END:VEVENT

END:VCALENDAR
