BEGIN:VCALENDAR
VERSION:2.0
PRODID:-//ChamberMaster//Event Calendar 2.0//EN
METHOD:PUBLISH
X-PUBLISHED-TTL:P3D
REFRESH-INTERVAL:P3D
CALSCALE:GREGORIAN
BEGIN:VEVENT
DTSTART:20020210T220000Z
DTEND:20020210T220000Z
X-MICROSOFT-CDO-ALLDAYEVENT:FALSE
SUMMARY:YMCA Family Night
DESCRIPTION:If winter is beginning to feel too long\, the YMCA has a boredom buster: the YMCA Family Night.  There will be games in the pool\, billiards\, foosball relay races and board games for the whole family to enjoy.  For more information please call the Y at 227-9622.
X-ALT-DESC;FMTTYPE=text/html:If winter is beginning to feel too long\, the YMCA has a boredom buster: the YMCA Family Night.  There will be games in the pool\, billiards\, foosball relay races and board games for the whole family to enjoy.  For more information please call the Y at 227-9622.
LOCATION:YMCA - Pine St. Marquette
UID:e.1704.47573
SEQUENCE:3
DTSTAMP:20260423T023619Z
URL:https://business.marquette.org/events/details/ymca-family-night-02-10-2002-47573
END:VEVENT

END:VCALENDAR
