BEGIN:VCALENDAR
VERSION:2.0
PRODID:-//ChamberMaster//Event Calendar 2.0//EN
METHOD:PUBLISH
X-PUBLISHED-TTL:P3D
REFRESH-INTERVAL:P3D
CALSCALE:GREGORIAN
BEGIN:VEVENT
DTSTART:20021019T150000Z
DTEND:20021019T150000Z
X-MICROSOFT-CDO-ALLDAYEVENT:FALSE
SUMMARY:YMCA Free Fitness Feast
DESCRIPTION:A number of free classes will be offered to the public.  These classes include Spinning\, Cardio-Boxing\, Snow Sports Conditioning\, Absolutely Abs\, Fitness Yoga/Yoga\, Pilates\, Stretching and Aquatics Cardio-Boxing.  For more information and for pre-registration call the YMCA at 227-9622.
X-ALT-DESC;FMTTYPE=text/html:A number of free classes will be offered to the public.  These classes include Spinning\, Cardio-Boxing\, Snow Sports Conditioning\, Absolutely Abs\, Fitness Yoga/Yoga\, Pilates\, Stretching and Aquatics Cardio-Boxing.  For more information and for pre-registration call the YMCA at 227-9622.
LOCATION:YMCA of Marquette
UID:e.1704.51281
SEQUENCE:3
DTSTAMP:20260422T072457Z
URL:https://business.marquette.org/events/details/ymca-free-fitness-feast-10-19-2002-51281
END:VEVENT

END:VCALENDAR
