BEGIN:VCALENDAR
VERSION:2.0
PRODID:-//ChamberMaster//Event Calendar 2.0//EN
METHOD:PUBLISH
X-PUBLISHED-TTL:P3D
REFRESH-INTERVAL:P3D
CALSCALE:GREGORIAN
BEGIN:VEVENT
DTSTART:20020309T160000Z
DTEND:20020309T160000Z
X-MICROSOFT-CDO-ALLDAYEVENT:FALSE
SUMMARY:Youth Fitness Certification
DESCRIPTION:Youth ages 13 - 16 can take part in a basic fitness workshop and orientation to fitness equipment.  The cost to attend is $32 for the general public and $16 for Y members.  Please call the Y at 227-9622 for more information.
X-ALT-DESC;FMTTYPE=text/html:Youth ages 13 - 16 can take part in a basic fitness workshop and orientation to fitness equipment.  The cost to attend is $32 for the general public and $16 for Y members.  Please call the Y at 227-9622 for more information.
LOCATION:Marquette YMCA
UID:e.1704.47665
SEQUENCE:3
DTSTAMP:20260423T012501Z
URL:https://business.marquette.org/events/details/youth-fitness-certification-03-09-2002-47665
END:VEVENT

END:VCALENDAR
