BEGIN:VCALENDAR
VERSION:2.0
PRODID:-//ChamberMaster//Event Calendar 2.0//EN
METHOD:PUBLISH
X-PUBLISHED-TTL:P3D
REFRESH-INTERVAL:P3D
CALSCALE:GREGORIAN
BEGIN:VEVENT
DTSTART:20020506T190000Z
DTEND:20020506T190000Z
X-MICROSOFT-CDO-ALLDAYEVENT:FALSE
SUMMARY:Youth Fitness Certification
DESCRIPTION:Youth ages 13 - 16 can take part in a basic fitness workshop and orientation to fitness equipment at the Bell Memorial Wellness Center in Negaunee.  The cost to attend is $32 for the general public and $16 for Y members.  For more information please call 227-YMCA or visit www.ymca.org.
X-ALT-DESC;FMTTYPE=text/html:Youth ages 13 - 16 can take part in a basic fitness workshop and orientation to fitness equipment at the Bell Memorial Wellness Center in Negaunee.  The cost to attend is $32 for the general public and $16 for Y members.  For more information please call 227-YMCA or visit www.ymca.org.
LOCATION:Bell Memorial Wellness Center - Negaunee
UID:e.1704.48561
SEQUENCE:3
DTSTAMP:20260422T203011Z
URL:https://business.marquette.org/events/details/youth-fitness-certification-05-06-2002-48561
END:VEVENT

END:VCALENDAR
