BEGIN:VCALENDAR
VERSION:2.0
PRODID:-//ChamberMaster//Event Calendar 2.0//EN
METHOD:PUBLISH
X-PUBLISHED-TTL:P3D
REFRESH-INTERVAL:P3D
CALSCALE:GREGORIAN
BEGIN:VEVENT
DTSTART:20020405T050000Z
DTEND:20020406T050000Z
X-MICROSOFT-CDO-ALLDAYEVENT:FALSE
SUMMARY:Youth for Christ - Fire Up
DESCRIPTION:Time to fire up once again with Youth for Christ. For more informationon this event please call 227-4YFC.
X-ALT-DESC;FMTTYPE=text/html:Time to fire up once again with Youth for Christ. For more informationon this event please call 227-4YFC.
LOCATION:Superior Dome
UID:e.1704.46701
SEQUENCE:3
DTSTAMP:20260422T223223Z
URL:https://business.marquette.org/events/details/youth-for-christ-fire-up-04-05-2002-46701
END:VEVENT

END:VCALENDAR
